BEGIN:VCALENDAR
VERSION:2.0
PRODID:-//ChamberMaster//Event Calendar 2.0//EN
METHOD:PUBLISH
X-PUBLISHED-TTL:P1H
REFRESH-INTERVAL:P1H
CALSCALE:GREGORIAN
BEGIN:VTIMEZONE
TZID:America/Phoenix
BEGIN:DAYLIGHT
DTSTART:20070311T020000
TZOFFSETFROM:-0700
TZOFFSETTO:-0700
TZNAME:(UTC-07:00) Arizona
END:DAYLIGHT
BEGIN:STANDARD
DTSTART:20071104T020000
TZOFFSETFROM:-0700
TZOFFSETTO:-0700
TZNAME:(UTC-07:00) Arizona
END:STANDARD
END:VTIMEZONE
BEGIN:VEVENT
DTSTART;TZID=America/Phoenix:20261119T160000
DTEND;TZID=America/Phoenix:20261121T160000
X-MICROSOFT-CDO-ALLDAYEVENT:FALSE
SUMMARY:Quest for Knowledge: A Medieval Times Continuing Education Event
DESCRIPTION:This years’ experience is shaping up to be even bigger\, better\, and more memorable than 2025. We have secured an outstanding lineup of education along with an experience designed to blend valuable learning\, networking\, and a little fun along the way.\n\nEvent Dates\nFriday\, November 20 & Saturday\, November 21\, 2026\n\nLocation\nDrury Inn & Suites\nPhoenix Chandler Fashion Center\n\nHotel Stay\nCheck-In: November 19th\nCheck-Out: November 21st\n\nFeatured Instructors\nMike & Sally Liddicoat\n\nCourse Lineup (Arizona CE + NAR Credits)\n\n1. Requirements for Licensees (formerly Commissioner’s Standards) \nBeyond the Standard (3 hrs) — Includes NAR Code of Ethics Credit \n2. Fair Housing\nDid I Say That? (3 hrs) — Includes NAR Fair Housing Credit \n3. Agency Law\nWalking the Line: Limited Representation in Arizona Real Estate (3 hrs) \n4. Contract Law\nBanish BINSR Babble (3 hrs)\n\nAnd of course… it wouldn’t be a WMAR learning experience without mixing in a little fun!\n\nFriday Night Experience\nMedieval Times Dinner & Tournament…and yes — there will be a PARTY BUS\n\nIncluded Amenities\n\n• Complimentary breakfast buffet each morning at the hotel\n• Evening appetizers and refreshments at the hotel\n• Two drink tickets for Friday and two drink tickets for Saturday\n• Lunch provided both Friday and Saturday (sponsored)
X-ALT-DESC;FMTTYPE=text/html:This years’ experience is shaping up to be even bigger\, better\, and more memorable than 2025. We have secured an outstanding lineup of education along with an experience designed to blend valuable learning\, networking\, and a little fun along the way.\n\nEvent Dates\nFriday\, November 20 & Saturday\, November 21\, 2026\n\nLocation\nDrury Inn & Suites\nPhoenix Chandler Fashion Center\n\nHotel Stay\nCheck-In: November 19th\nCheck-Out: November 21st\n\nFeatured Instructors\nMike & Sally Liddicoat\n\nCourse Lineup (Arizona CE + NAR Credits)\n\n1. Requirements for Licensees (formerly Commissioner’s Standards) \nBeyond the Standard (3 hrs) — Includes NAR Code of Ethics Credit \n2. Fair Housing\nDid I Say That? (3 hrs) — Includes NAR Fair Housing Credit \n3. Agency Law\nWalking the Line: Limited Representation in Arizona Real Estate (3 hrs) \n4. Contract Law\nBanish BINSR Babble (3 hrs)\n\nAnd of course… it wouldn’t be a WMAR learning experience without mixing in a little fun!\n\nFriday Night Experience\nMedieval Times Dinner & Tournament…and yes — there will be a PARTY BUS\n\nIncluded Amenities\n\n• Complimentary breakfast buffet each morning at the hotel\n• Evening appetizers and refreshments at the hotel\n• Two drink tickets for Friday and two drink tickets for Saturday\n• Lunch provided both Friday and Saturday (sponsored)
LOCATION:1205 S. Price Rd Chandler AZ 85286
UID:e.4037.1447281
SEQUENCE:3
DTSTAMP:20260421T054013Z
URL:https://members.wmaronline.com/event-calendar/Details/quest-for-knowledge-a-medieval-times-continuing-education-event-1714142?sourceTypeId=Hub
END:VEVENT
END:VCALENDAR
