BEGIN:VCALENDAR
VERSION:2.0
PRODID:-//ChamberMaster//Event Calendar 2.0//EN
METHOD:PUBLISH
X-PUBLISHED-TTL:P1H
REFRESH-INTERVAL:P1H
CALSCALE:GREGORIAN
BEGIN:VTIMEZONE
TZID:America/Phoenix
BEGIN:DAYLIGHT
DTSTART:20070311T020000
TZOFFSETFROM:-0700
TZOFFSETTO:-0700
TZNAME:(UTC-07:00) Arizona
END:DAYLIGHT
BEGIN:STANDARD
DTSTART:20071104T020000
TZOFFSETFROM:-0700
TZOFFSETTO:-0700
TZNAME:(UTC-07:00) Arizona
END:STANDARD
END:VTIMEZONE
BEGIN:VEVENT
DTSTART;TZID=America/Phoenix:20260425T090000
DTEND;TZID=America/Phoenix:20260425T130000
X-MICROSOFT-CDO-ALLDAYEVENT:FALSE
SUMMARY:Teacher Housing Project
DESCRIPTION:VOLUNTEER NEEDED\n\nWe Need Help For:\nBuilding raised garden boxes (1 per unit)\nFilling boxes using healthy soil layering techniques\nPlanting flowers & greenery\nPlanting Ground Coverage\nCleaning and detailing each housing unit\n\nWe’re coming together as a community to prepare our eight Teacher Housing Units for move-in!\n\nLUNCH PROVIDED\n\nWE NEED YOU\nThis only works if people sign up AND show up — your time makes a real impact for local teachers.
X-ALT-DESC;FMTTYPE=text/html:VOLUNTEER NEEDED\n\nWe Need Help For:\nBuilding raised garden boxes (1 per unit)\nFilling boxes using healthy soil layering techniques\nPlanting flowers & greenery\nPlanting Ground Coverage\nCleaning and detailing each housing unit\n\nWe’re coming together as a community to prepare our eight Teacher Housing Units for move-in!\n\nLUNCH PROVIDED\n\nWE NEED YOU\nThis only works if people sign up AND show up — your time makes a real impact for local teachers.
LOCATION:Penrod Lane Pinetop 85935
UID:e.4037.1447138
SEQUENCE:3
DTSTAMP:20260421T054654Z
URL:https://members.wmaronline.com/event-calendar/Details/teacher-housing-project-1713967?sourceTypeId=Hub
END:VEVENT
END:VCALENDAR
